BEGIN:VCALENDAR
VERSION:2.0
PRODID:icalendar-ruby
CALSCALE:GREGORIAN
METHOD:PUBLISH
BEGIN:VEVENT
DTSTAMP:20260423T100237Z
UID:121-1585201@enterprisechristianchurch.org
DTSTART:20260424T170000Z
DTEND:20260424T190000Z
CLASS:PUBLIC
CREATED:20260422T173252
DESCRIPTION:Join us to celebrate the life of Hubert Murrill. \nThis will b
 e at 10am on April 24th at Enterprise Christian Church
LAST-MODIFIED:20260422T173252
LOCATION:Enterprise Christian Chruch
SUMMARY:Hubert Murrill
URL;VALUE=URI:https://www.enterprisechristianchurch.org/events/hubert-murri
 ll/2026-04-24
ATTACH;FILENAME=Hubert-memorial-service-.png;FMTTYPE=image/png:https://dq5p
 wpg1q8ru0.cloudfront.net/2026/04/23/00/32/52/c121dd94-14e0-4e25-812c-e8649
 5ebd4e2/Hubert-memorial-service-.png
END:VEVENT
END:VCALENDAR
