BEGIN:VCALENDAR
VERSION:2.0
PRODID:icalendar-ruby
CALSCALE:GREGORIAN
METHOD:PUBLISH
BEGIN:VEVENT
DTSTAMP:20260423T235744Z
UID:70-1590668@enterprisechristianchurch.org
DTSTART:20261102T164500Z
DTEND:20261102T180000Z
CLASS:PUBLIC
CREATED:20260423T164059
DESCRIPTION:Join other moms in prayer on Monday mornings when school is in 
 session.  \n\n8:45 - 9:00 am     Arrival and catching up\n9:00 - 10:0
 0 am   Prayer\n\nTo receive information about the group that meets at EC
 C\, use the More Info button on this page\, or CLICK HERE. One of the coor
 dinators\, Rhonda or Heather\, will contact you within a day or two.  :)\
 nTo learn more about Moms in Prayer International\, visit their website at
 : https://momsinprayer.org/
LAST-MODIFIED:20260423T164059
LOCATION:Enterprise Christian Church
SUMMARY:Moms in Prayer
URL;VALUE=URI:https://www.enterprisechristianchurch.org/events/moms-in-pray
 er--70/2026-11-02
ATTACH;FILENAME=Moms-in-Prayer-%28MIP%29-%281500-x-784-px%29-%281%29.jpg;FM
 TTYPE=image/jpeg:https://dq5pwpg1q8ru0.cloudfront.net/2025/01/13/18/33/38/
 56796076-0836-4504-bfac-0524a42d6800/Moms-in-Prayer-%2528MIP%2529-%2528150
 0-x-784-px%2529-%25281%2529.jpg
END:VEVENT
END:VCALENDAR
